BEGIN:VCALENDAR
VERSION:2.0
PRODID:-//wp-events-plugin.com//7.2.3.1//EN
TZID:Europe/Zurich
X-WR-TIMEZONE:Europe/Zurich
BEGIN:VEVENT
UID:1618@sprachmobil.ch
DTSTART;TZID=Europe/Zurich:20250117T150000
DTEND;TZID=Europe/Zurich:20250117T160000
DTSTAMP:20250304T212220Z
URL:https://sprachmobil.ch/events/das-sprachmobil-ch-kommt-ins-khaus-bibli
 othek-2025-01-17/
SUMMARY:Das sprachmobil.ch kommt in die Räumlichkeiten von kHaus - Pause b
 is 21. März
DESCRIPTION:15:00 Uhr - Treffpunkt im kHaus: Plakatwand im Plaza (vom Rhein
  aus im ersten Stock)
CATEGORIES:🏠 In Räumlichkeiten
LOCATION:Basel im kHaus (Treffpunkt Plakatwand im Plaza 1. Stock)\, Kaserne
 nstrasse 8\, Basel\, 4058\, Schweiz
X-APPLE-STRUCTURED-LOCATION;VALUE=URI;X-ADDRESS=Kasernenstrasse 8\, Basel\,
  4058\, Schweiz;X-APPLE-RADIUS=100;X-TITLE=Basel im kHaus (Treffpunkt Plak
 atwand im Plaza 1. Stock):geo:0,0
END:VEVENT
BEGIN:VTIMEZONE
TZID:Europe/Zurich
X-LIC-LOCATION:Europe/Zurich
BEGIN:STANDARD
DTSTART:20241027T020000
TZOFFSETFROM:+0200
TZOFFSETTO:+0100
TZNAME:CET
END:STANDARD
END:VTIMEZONE
END:VCALENDAR